BEGIN:VCALENDAR
VERSION:2.0
PRODID:-//Lord Over Limerence - ECPv6.15.20//NONSGML v1.0//EN
CALSCALE:GREGORIAN
METHOD:PUBLISH
X-ORIGINAL-URL:https://lordoverlimerence.org
X-WR-CALDESC:Events for Lord Over Limerence
REFRESH-INTERVAL;VALUE=DURATION:PT1H
X-Robots-Tag:noindex
X-PUBLISHED-TTL:PT1H
BEGIN:VTIMEZONE
TZID:America/Denver
BEGIN:DAYLIGHT
TZOFFSETFROM:-0700
TZOFFSETTO:-0600
TZNAME:MDT
DTSTART:20250309T090000
END:DAYLIGHT
BEGIN:STANDARD
TZOFFSETFROM:-0600
TZOFFSETTO:-0700
TZNAME:MST
DTSTART:20251102T080000
END:STANDARD
BEGIN:DAYLIGHT
TZOFFSETFROM:-0700
TZOFFSETTO:-0600
TZNAME:MDT
DTSTART:20260308T090000
END:DAYLIGHT
BEGIN:STANDARD
TZOFFSETFROM:-0600
TZOFFSETTO:-0700
TZNAME:MST
DTSTART:20261101T080000
END:STANDARD
BEGIN:DAYLIGHT
TZOFFSETFROM:-0700
TZOFFSETTO:-0600
TZNAME:MDT
DTSTART:20270314T090000
END:DAYLIGHT
BEGIN:STANDARD
TZOFFSETFROM:-0600
TZOFFSETTO:-0700
TZNAME:MST
DTSTART:20271107T080000
END:STANDARD
END:VTIMEZONE
BEGIN:VEVENT
DTSTART;TZID=America/Denver:20260216T183000
DTEND;TZID=America/Denver:20260216T190000
DTSTAMP:20260424T084432
CREATED:20251115T043118Z
LAST-MODIFIED:20260110T192048Z
UID:614-1771266600-1771268400@lordoverlimerence.org
SUMMARY:Webinar: What makes it so hard to get out of limerence?
DESCRIPTION:In this 30-minute webinar\, we will discuss some of the things that make it so difficult for a person to break free from limerence. In its most life-dominating form\, limerence is a powerful addiction to a person who appears to be able to meet deeply felt needs in the limerent person’s heart. \nLike any addiction\, it takes a great deal of strength to overcome and recover from limerence. It comes with unique challenges due to the dynamic nature of personal relationships. We will end with hope for limerence sufferers\, offering practical steps to take toward lasting peace and freedom. \nThis webinar will be hosted on Webinar Geek. Register at the following link: https://lordoverlimerence.webinargeek.com/what-makes-it-so-hard-to-get-out-of-limerence
URL:https://lordoverlimerence.org/event/webinar-what-makes-it-so-hard-to-get-out-of-limerence/
CATEGORIES:Webinars
END:VEVENT
END:VCALENDAR