BEGIN:VCALENDAR
VERSION:2.0
PRODID:-//Lord Over Limerence - ECPv6.15.20//NONSGML v1.0//EN
CALSCALE:GREGORIAN
METHOD:PUBLISH
X-WR-CALNAME:Lord Over Limerence
X-ORIGINAL-URL:https://lordoverlimerence.org
X-WR-CALDESC:Events for Lord Over Limerence
REFRESH-INTERVAL;VALUE=DURATION:PT1H
X-Robots-Tag:noindex
X-PUBLISHED-TTL:PT1H
BEGIN:VTIMEZONE
TZID:America/Denver
BEGIN:DAYLIGHT
TZOFFSETFROM:-0700
TZOFFSETTO:-0600
TZNAME:MDT
DTSTART:20250309T090000
END:DAYLIGHT
BEGIN:STANDARD
TZOFFSETFROM:-0600
TZOFFSETTO:-0700
TZNAME:MST
DTSTART:20251102T080000
END:STANDARD
BEGIN:DAYLIGHT
TZOFFSETFROM:-0700
TZOFFSETTO:-0600
TZNAME:MDT
DTSTART:20260308T090000
END:DAYLIGHT
BEGIN:STANDARD
TZOFFSETFROM:-0600
TZOFFSETTO:-0700
TZNAME:MST
DTSTART:20261101T080000
END:STANDARD
BEGIN:DAYLIGHT
TZOFFSETFROM:-0700
TZOFFSETTO:-0600
TZNAME:MDT
DTSTART:20270314T090000
END:DAYLIGHT
BEGIN:STANDARD
TZOFFSETFROM:-0600
TZOFFSETTO:-0700
TZNAME:MST
DTSTART:20271107T080000
END:STANDARD
END:VTIMEZONE
BEGIN:VEVENT
DTSTART;TZID=America/Denver:20260119T183000
DTEND;TZID=America/Denver:20260119T190000
DTSTAMP:20260424T101800
CREATED:20251115T035202Z
LAST-MODIFIED:20260109T050851Z
UID:612-1768847400-1768849200@lordoverlimerence.org
SUMMARY:Webinar: What does the Bible say about limerence?
DESCRIPTION:In this 30-minute webinar\, we will review what the Bible has to say about limerence. While the word ‘limerence’ itself is not in the Bible\, many passages of scripture offer wisdom that can minister to those impacted by limerence. \nThis webinar will be hosted on Webinar Geek. Register to attend at the following link: https://lordoverlimerence.webinargeek.com/what-does-the-bible-say-about-limerence-1
URL:https://lordoverlimerence.org/event/webinar-what-does-the-bible-say-about-limerence/
CATEGORIES:Webinars
END:VEVENT
END:VCALENDAR