BEGIN:VCALENDAR
VERSION:2.0
PRODID:-//Lord Over Limerence - ECPv6.15.20//NONSGML v1.0//EN
CALSCALE:GREGORIAN
METHOD:PUBLISH
X-ORIGINAL-URL:https://lordoverlimerence.org
X-WR-CALDESC:Events for Lord Over Limerence
REFRESH-INTERVAL;VALUE=DURATION:PT1H
X-Robots-Tag:noindex
X-PUBLISHED-TTL:PT1H
BEGIN:VTIMEZONE
TZID:America/Denver
BEGIN:DAYLIGHT
TZOFFSETFROM:-0700
TZOFFSETTO:-0600
TZNAME:MDT
DTSTART:20240310T090000
END:DAYLIGHT
BEGIN:STANDARD
TZOFFSETFROM:-0600
TZOFFSETTO:-0700
TZNAME:MST
DTSTART:20241103T080000
END:STANDARD
BEGIN:DAYLIGHT
TZOFFSETFROM:-0700
TZOFFSETTO:-0600
TZNAME:MDT
DTSTART:20250309T090000
END:DAYLIGHT
BEGIN:STANDARD
TZOFFSETFROM:-0600
TZOFFSETTO:-0700
TZNAME:MST
DTSTART:20251102T080000
END:STANDARD
BEGIN:DAYLIGHT
TZOFFSETFROM:-0700
TZOFFSETTO:-0600
TZNAME:MDT
DTSTART:20260308T090000
END:DAYLIGHT
BEGIN:STANDARD
TZOFFSETFROM:-0600
TZOFFSETTO:-0700
TZNAME:MST
DTSTART:20261101T080000
END:STANDARD
BEGIN:DAYLIGHT
TZOFFSETFROM:-0700
TZOFFSETTO:-0600
TZNAME:MDT
DTSTART:20270314T090000
END:DAYLIGHT
BEGIN:STANDARD
TZOFFSETFROM:-0600
TZOFFSETTO:-0700
TZNAME:MST
DTSTART:20271107T080000
END:STANDARD
END:VTIMEZONE
BEGIN:VEVENT
DTSTART;TZID=America/Denver:20260419T180000
DTEND;TZID=America/Denver:20260419T191500
DTSTAMP:20260423T205306
CREATED:20260328T165555Z
LAST-MODIFIED:20260328T165555Z
UID:636-1776621600-1776626100@lordoverlimerence.org
SUMMARY:Support Group Meeting - April 19\, 2026
DESCRIPTION:Lord Over Limerence holds regular support meetings every other Sunday evening\, 6:00-7:15 PM Pacific Time. Meetings are intended to offer biblically based emotional support and prayer for those who are currently struggling with limerence. \nThe meeting on April 19\, 2026 is focused on returning to Christ as your first love\, rather than allowing another to take His place in your heart (Rev. 2:4). \nUse the form below to indicate your interest in attending this meeting or a future support group meeting if you have not signed up before. \nPlease enable JavaScript in your browser to complete this form.Name *FirstLastEmail *Local Time Zone *Meeting Schedule SuggestionsIf our regular Sunday meetings do not fit well with your schedule\, please list several days and times which would work for you.How frequently would you like to meet? *WeeklyBiweekly/FortnightlyMonthlyHow can we pray for you as we prepare for the support meetings?Prayer requests will be kept confidential.Submit
URL:https://lordoverlimerence.org/event/support-group-meeting-20260419/
CATEGORIES:Support Group Meetings
END:VEVENT
BEGIN:VEVENT
DTSTART;TZID=America/Denver:20260322T180000
DTEND;TZID=America/Denver:20260322T191500
DTSTAMP:20260423T205306
CREATED:20260222T232538Z
LAST-MODIFIED:20260222T232538Z
UID:633-1774202400-1774206900@lordoverlimerence.org
SUMMARY:Support Group Meeting - March 22\, 2026
DESCRIPTION:Lord Over Limerence holds regular support meetings every other Sunday evening\, 6:00-7:15 PM Pacific Time. Meetings are intended to offer biblically based emotional support and prayer for those who are currently struggling with limerence. \nThe meeting on March 22\, 2026 is focused on fostering real friendships instead of fantasizing about ideal\, unrealistic relationships. \nUse the form below to indicate your interest in attending this meeting or a future support group meeting if you have not signed up before. \nPlease enable JavaScript in your browser to complete this form.Name *FirstLastEmail *Local Time Zone *Meeting Schedule SuggestionsIf our regular Sunday meetings do not fit well with your schedule\, please list several days and times which would work for you.How frequently would you like to meet? *WeeklyBiweekly/FortnightlyMonthlyHow can we pray for you as we prepare for the support meetings?Prayer requests will be kept confidential.Submit
URL:https://lordoverlimerence.org/event/support-group-meeting-20260322/
CATEGORIES:Support Group Meetings
END:VEVENT
BEGIN:VEVENT
DTSTART;TZID=America/Denver:20260308T180000
DTEND;TZID=America/Denver:20260308T191500
DTSTAMP:20260423T205306
CREATED:20260222T232000Z
LAST-MODIFIED:20260222T232000Z
UID:631-1772992800-1772997300@lordoverlimerence.org
SUMMARY:Support Group Meeting - March 8\, 2026
DESCRIPTION:Lord Over Limerence holds regular support meetings every other Sunday evening\, 6:00-7:15 PM Pacific Time. Meetings are intended to offer biblically based emotional support and prayer for those who are currently struggling with limerence. \nThe meeting on March 8\, 2026 is focused on how to be just friends with people when they might otherwise turn into unrightful thought and heart captivators (UTHC). \nUse the form below to indicate your interest in attending this meeting or a future support group meeting if you have not signed up before. \nPlease enable JavaScript in your browser to complete this form.Name *FirstLastEmail *Local Time Zone *Meeting Schedule SuggestionsIf our regular Sunday meetings do not fit well with your schedule\, please list several days and times which would work for you.How frequently would you like to meet? *WeeklyBiweekly/FortnightlyMonthlyHow can we pray for you as we prepare for the support meetings?Prayer requests will be kept confidential.Submit
URL:https://lordoverlimerence.org/event/support-group-meeting-20260308/
CATEGORIES:Support Group Meetings
END:VEVENT
BEGIN:VEVENT
DTSTART;TZID=America/Denver:20260222T180000
DTEND;TZID=America/Denver:20260222T191500
DTSTAMP:20260423T205306
CREATED:20251115T005604Z
LAST-MODIFIED:20260222T231047Z
UID:610-1771783200-1771787700@lordoverlimerence.org
SUMMARY:Support Group Meeting - February 22\, 2026
DESCRIPTION:Lord Over Limerence holds regular support meetings every other Sunday evening\, 6:00-7:15 PM Pacific Time. Meetings are intended to offer biblically based emotional support and prayer for those who are currently struggling with limerence. \nThe meeting on February 22\, 2026 is an open sharing session. Attendees are encouraged to bring their own questions and discussion topics related to the experience of limerence. \nUse the form below to indicate your interest in attending this meeting or a future support group meeting if you have not signed up before. \nPlease enable JavaScript in your browser to complete this form.Name *FirstLastEmail *Local Time Zone *Meeting Schedule SuggestionsIf our regular Sunday meetings do not fit well with your schedule\, please list several days and times which would work for you.How frequently would you like to meet? *WeeklyBiweekly/FortnightlyMonthlyHow can we pray for you as we prepare for the support meetings?Prayer requests will be kept confidential.Submit
URL:https://lordoverlimerence.org/event/support-group-meeting-20260222/
CATEGORIES:Support Group Meetings
END:VEVENT
BEGIN:VEVENT
DTSTART;TZID=America/Denver:20260208T180000
DTEND;TZID=America/Denver:20260208T191500
DTSTAMP:20260423T205306
CREATED:20251115T005256Z
LAST-MODIFIED:20260207T193550Z
UID:608-1770573600-1770578100@lordoverlimerence.org
SUMMARY:Support Group Meeting - February 8\, 2026
DESCRIPTION:Lord Over Limerence holds regular support meetings every other Sunday evening\, 6:00-7:15 PM Pacific Time. Meetings are intended to offer biblically based emotional support and prayer for those who are currently struggling with limerence. \nThe meeting on February 8\, 2026 is focused on how limerence can be one of many types of addictions in a pattern of addiction experienced over the course of a person’s life. \nUse the form below to indicate your interest in attending this meeting or a future support group meeting if you have not signed up before. \nPlease enable JavaScript in your browser to complete this form.Name *FirstLastEmail *Local Time Zone *Meeting Schedule SuggestionsIf our regular Sunday meetings do not fit well with your schedule\, please list several days and times which would work for you.How frequently would you like to meet? *WeeklyBiweekly/FortnightlyMonthlyHow can we pray for you as we prepare for the support meetings?Prayer requests will be kept confidential.Submit
URL:https://lordoverlimerence.org/event/support-group-meeting-20260208/
CATEGORIES:Support Group Meetings
END:VEVENT
BEGIN:VEVENT
DTSTART;TZID=America/Denver:20260125T180000
DTEND;TZID=America/Denver:20260125T191500
DTSTAMP:20260423T205306
CREATED:20251115T004529Z
LAST-MODIFIED:20251115T004529Z
UID:604-1769364000-1769368500@lordoverlimerence.org
SUMMARY:Support Group Meeting - January 25\, 2026
DESCRIPTION:Lord Over Limerence holds regular support meetings every other Sunday evening\, 6:00-7:15 PM Pacific Time. Meetings are intended to offer biblically based emotional support and prayer for those who are currently struggling with limerence. \nThe meeting on January 25\, 2026 is focused on a topic TBD. \nUse the form below to indicate your interest in attending this meeting or a future support group meeting if you have not signed up before. \nPlease enable JavaScript in your browser to complete this form.Name *FirstLastEmail *Local Time Zone *Meeting Schedule SuggestionsIf our regular Sunday meetings do not fit well with your schedule\, please list several days and times which would work for you.How frequently would you like to meet? *WeeklyBiweekly/FortnightlyMonthlyHow can we pray for you as we prepare for the support meetings?Prayer requests will be kept confidential.Submit
URL:https://lordoverlimerence.org/event/support-group-meeting-20260125/
CATEGORIES:Support Group Meetings
END:VEVENT
BEGIN:VEVENT
DTSTART;TZID=America/Denver:20260111T180000
DTEND;TZID=America/Denver:20260111T191500
DTSTAMP:20260423T205306
CREATED:20251115T003642Z
LAST-MODIFIED:20251212T035955Z
UID:602-1768154400-1768158900@lordoverlimerence.org
SUMMARY:Support Group Meeting - January 11\, 2026
DESCRIPTION:Lord Over Limerence holds regular support meetings every other Sunday evening\, 6:00-7:15 PM Pacific Time. Meetings are intended to offer biblically based emotional support and prayer for those who are currently struggling with limerence. \nThe meeting on January 11\, 2026 is focused on the internal battle between heart and mind that often plagues a person experiencing limerence. \nUse the form below to indicate your interest in attending this meeting or a future support group meeting if you have not signed up before. \nPlease enable JavaScript in your browser to complete this form.Name *FirstLastEmail *Local Time Zone *Meeting Schedule SuggestionsIf our regular Sunday meetings do not fit well with your schedule\, please list several days and times which would work for you.How frequently would you like to meet? *WeeklyBiweekly/FortnightlyMonthlyHow can we pray for you as we prepare for the support meetings?Prayer requests will be kept confidential.Submit
URL:https://lordoverlimerence.org/event/support-group-meeting-20260111/
CATEGORIES:Support Group Meetings
END:VEVENT
BEGIN:VEVENT
DTSTART;TZID=America/Denver:20251214T180000
DTEND;TZID=America/Denver:20251214T191500
DTSTAMP:20260423T205306
CREATED:20251115T002749Z
LAST-MODIFIED:20251212T034241Z
UID:600-1765735200-1765739700@lordoverlimerence.org
SUMMARY:Support Group Meeting - December 14\, 2025
DESCRIPTION:Lord Over Limerence holds regular support meetings every other Sunday evening\, 6:00-7:15 PM Pacific Time. Meetings are intended to offer biblically based emotional support and prayer for those who are currently struggling with limerence. \nThe meeting on December 14\, 2025 is focused on distance\, both physical and emotional distance from one’s unrightful thought and heart captivator and spiritual distance from God. This is the last meeting of 2025 and meetings will resume on January 11\, 2026. \nUse the form below to indicate your interest in attending this meeting or a future support group meeting if you have not signed up before. \nPlease enable JavaScript in your browser to complete this form.Name *FirstLastEmail *Local Time Zone *Meeting Schedule SuggestionsIf our regular Sunday meetings do not fit well with your schedule\, please list several days and times which would work for you.How frequently would you like to meet? *WeeklyBiweekly/FortnightlyMonthlyHow can we pray for you as we prepare for the support meetings?Prayer requests will be kept confidential.Submit
URL:https://lordoverlimerence.org/event/support-group-meeting-20251214/
CATEGORIES:Support Group Meetings
END:VEVENT
BEGIN:VEVENT
DTSTART;TZID=America/Denver:20251130T180000
DTEND;TZID=America/Denver:20251130T191500
DTSTAMP:20260423T205306
CREATED:20251115T002026Z
LAST-MODIFIED:20251212T035745Z
UID:598-1764525600-1764530100@lordoverlimerence.org
SUMMARY:Support Group Meeting - November 30\, 2025
DESCRIPTION:Lord Over Limerence holds regular support meetings every other Sunday evening\, 6:00-7:15 PM Pacific Time. Meetings are intended to offer biblically based emotional support and prayer for those who are currently struggling with limerence. \nThe meeting on November 30\, 2025 is focused on the challenges of limerence in the holiday season\, on birthdays and any special anniversaries related to the relationship or hope for a relationship. \nUse the form below to indicate your interest in attending this meeting or a future support group meeting if you have not signed up before. \nPlease enable JavaScript in your browser to complete this form.Name *FirstLastEmail *Local Time Zone *Meeting Schedule SuggestionsIf our regular Sunday meetings do not fit well with your schedule\, please list several days and times which would work for you.How frequently would you like to meet? *WeeklyBiweekly/FortnightlyMonthlyHow can we pray for you as we prepare for the support meetings?Prayer requests will be kept confidential.Submit
URL:https://lordoverlimerence.org/event/support-group-meeting-20251130/
CATEGORIES:Support Group Meetings
END:VEVENT
BEGIN:VEVENT
DTSTART;TZID=America/Denver:20251116T180000
DTEND;TZID=America/Denver:20251116T191500
DTSTAMP:20260423T205306
CREATED:20251115T000915Z
LAST-MODIFIED:20251212T035618Z
UID:596-1763316000-1763320500@lordoverlimerence.org
SUMMARY:Support Group Meeting - November 16\, 2025 - Cancelled
DESCRIPTION:Lord Over Limerence holds regular support meetings every other Sunday evening\, 6:00-7:15 PM Pacific Time. Meetings are intended to offer biblically based emotional support and prayer for those who are currently struggling with limerence. \nThe meeting on November 16\, 2025 was cancelled due to low attendance. The topic of challenges in limerence during the holidays is covered on November 30. \nUse the form below to indicate your interest in attending this meeting or a future support group meeting if you have not signed up before. \nPlease enable JavaScript in your browser to complete this form.Name *FirstLastEmail *Local Time Zone *Meeting Schedule SuggestionsIf our regular Sunday meetings do not fit well with your schedule\, please list several days and times which would work for you.How frequently would you like to meet? *WeeklyBiweekly/FortnightlyMonthlyHow can we pray for you as we prepare for the support meetings?Prayer requests will be kept confidential.Submit
URL:https://lordoverlimerence.org/event/support-group-meeting-20251116/
CATEGORIES:Support Group Meetings
END:VEVENT
BEGIN:VEVENT
DTSTART;TZID=America/Denver:20251102T180000
DTEND;TZID=America/Denver:20251102T191500
DTSTAMP:20260423T205306
CREATED:20251115T000227Z
LAST-MODIFIED:20251115T000227Z
UID:594-1762106400-1762110900@lordoverlimerence.org
SUMMARY:Support Group Meeting - November 2\, 2025
DESCRIPTION:Lord Over Limerence holds regular support meetings every other Sunday evening\, 6:00-7:15 PM Pacific Time. Meetings are intended to offer biblically based emotional support and prayer for those who are currently struggling with limerence. \nThe meeting on November 2\, 2025 is focused on how those experiencing limerence often have a moldable identity and may make promises that can be hard to break. \nPlease enable JavaScript in your browser to complete this form.Name *FirstLastEmail *Local Time Zone *Meeting Schedule SuggestionsIf our regular Sunday meetings do not fit well with your schedule\, please list several days and times which would work for you.How frequently would you like to meet? *WeeklyBiweekly/FortnightlyMonthlyHow can we pray for you as we prepare for the support meetings?Prayer requests will be kept confidential.Submit
URL:https://lordoverlimerence.org/event/support-group-meeting-20251102/
CATEGORIES:Support Group Meetings
END:VEVENT
BEGIN:VEVENT
DTSTART;TZID=America/Denver:20250713T180000
DTEND;TZID=America/Denver:20250713T191500
DTSTAMP:20260423T205306
CREATED:20250629T214511Z
LAST-MODIFIED:20251114T235121Z
UID:569-1752429600-1752434100@lordoverlimerence.org
SUMMARY:Support Group Meeting - July 13\, 2025
DESCRIPTION:Lord Over Limerence holds regular support meetings every other Sunday evening\, 6:00-7:15 PM Pacific Time. Meetings are intended to offer biblically based emotional support and prayer for those who are currently struggling with limerence. \nPlease enable JavaScript in your browser to complete this form.Name *FirstLastEmail *Local Time Zone *Meeting Schedule SuggestionsIf our regular Sunday meetings do not fit well with your schedule\, please list several days and times which would work for you.How frequently would you like to meet? *WeeklyBiweekly/FortnightlyMonthlyHow can we pray for you as we prepare for the support meetings?Prayer requests will be kept confidential.Submit
URL:https://lordoverlimerence.org/event/support-group-meeting-20250713/
CATEGORIES:Support Group Meetings
END:VEVENT
BEGIN:VEVENT
DTSTART;TZID=America/Denver:20250706T180000
DTEND;TZID=America/Denver:20250706T191500
DTSTAMP:20260423T205306
CREATED:20250629T214108Z
LAST-MODIFIED:20250629T214615Z
UID:566-1751824800-1751829300@lordoverlimerence.org
SUMMARY:Support Group Meeting
DESCRIPTION:Lord Over Limerence holds regular support meetings every other Sunday evening\, 6:00-7:15 PM Pacific Time. Meetings are intended to offer biblically based emotional support and prayer for those who are currently struggling with limerence. \nPlease enable JavaScript in your browser to complete this form.Name *FirstLastEmail *Local Time Zone *Meeting Schedule SuggestionsIf our regular Sunday meetings do not fit well with your schedule\, please list several days and times which would work for you.How frequently would you like to meet? *WeeklyBiweekly/FortnightlyMonthlyHow can we pray for you as we prepare for the support meetings?Prayer requests will be kept confidential.Submit
URL:https://lordoverlimerence.org/event/support-group-meeting-20250706/
CATEGORIES:Support Group Meetings
END:VEVENT
END:VCALENDAR