BEGIN:VCALENDAR
VERSION:2.0
PRODID:-//Lord Over Limerence - ECPv6.15.20//NONSGML v1.0//EN
CALSCALE:GREGORIAN
METHOD:PUBLISH
X-ORIGINAL-URL:https://lordoverlimerence.org
X-WR-CALDESC:Events for Lord Over Limerence
REFRESH-INTERVAL;VALUE=DURATION:PT1H
X-Robots-Tag:noindex
X-PUBLISHED-TTL:PT1H
BEGIN:VTIMEZONE
TZID:America/Denver
BEGIN:DAYLIGHT
TZOFFSETFROM:-0700
TZOFFSETTO:-0600
TZNAME:MDT
DTSTART:20250309T090000
END:DAYLIGHT
BEGIN:STANDARD
TZOFFSETFROM:-0600
TZOFFSETTO:-0700
TZNAME:MST
DTSTART:20251102T080000
END:STANDARD
BEGIN:DAYLIGHT
TZOFFSETFROM:-0700
TZOFFSETTO:-0600
TZNAME:MDT
DTSTART:20260308T090000
END:DAYLIGHT
BEGIN:STANDARD
TZOFFSETFROM:-0600
TZOFFSETTO:-0700
TZNAME:MST
DTSTART:20261101T080000
END:STANDARD
BEGIN:DAYLIGHT
TZOFFSETFROM:-0700
TZOFFSETTO:-0600
TZNAME:MDT
DTSTART:20270314T090000
END:DAYLIGHT
BEGIN:STANDARD
TZOFFSETFROM:-0600
TZOFFSETTO:-0700
TZNAME:MST
DTSTART:20271107T080000
END:STANDARD
END:VTIMEZONE
BEGIN:VEVENT
DTSTART;VALUE=DATE:20260509
DTEND;VALUE=DATE:20260510
DTSTAMP:20260423T173511
CREATED:20260328T171232Z
LAST-MODIFIED:20260417T214447Z
UID:638-1778284800-1778371199@lordoverlimerence.org
SUMMARY:Embrace His Grace 5k
DESCRIPTION:Lord Over Limerence will hold its inaugural virtual Embrace His Grace 5k run/walk event on Saturday\, May 9\, 2026. This event brings together a likeminded community of limerence sufferers and survivors (and those who love and support them) who have chosen to embrace God’s grace as sufficient for them. \nView the event flyer for additional information and register to participate below! \nNote: If you opt to purchase the event T-shirt (which is encouraged!)\, unfortunately\, your shirt most likely will not arrive prior to the official event date\, May 9. Please feel free to delay your planned 5k completion until after you receive your shirt. Shirts are expected to arrive by May 18\, 2026. \nPlease enable JavaScript in your browser to complete this form.Personal DetailsName *FirstLast		\n			form event social\n			\n		\n		Email *Would you like to purchase the event T-shirt? *YesNoView and order the shirt here: https://www.customink.com/fundraising/2026-embrace-his-grace-5k. The shirt will be mailed to the address you provide. Note: Unfortunately\, your shirt most likely will not arrive prior to May 9. Please feel free to delay your event date until after you receive your shirt. Shirts are expected to arrive by May 18.Run or WalkRunnerWalkerAny photos you share that include the event hashtag on social media may be used in future marketing. *I understand.We encourage you to share your event photos! Use the hashtag #EmbraceHisGrace5k and/or tag Lord Over Limerence on our social media accounts.Waiver and Release of Liability *I understand and accept the risks of participation in this virtual 5k run/walk as outlined in the event waiver. My signed waiver is provided below.View and complete waiver form:\nhttp://lordoverlimerence.org/wp-content/uploads/2026/04/Embrace-His-Grace-Virtual-5K-Waiver.docxUpload your completed waiver form *\n	\n		\n			\n		\n\n		\n							Drag & Drop Files\, 				Choose Files to Upload\n					\n\n			\n\n\n\nSubmit
URL:https://lordoverlimerence.org/event/2026-embrace-his-grace-5k/
CATEGORIES:Community Engagement
END:VEVENT
END:VCALENDAR