BEGIN:VCALENDAR
VERSION:2.0
PRODID:-//Lord Over Limerence - ECPv6.15.20//NONSGML v1.0//EN
CALSCALE:GREGORIAN
METHOD:PUBLISH
X-WR-CALNAME:Lord Over Limerence
X-ORIGINAL-URL:https://lordoverlimerence.org
X-WR-CALDESC:Events for Lord Over Limerence
REFRESH-INTERVAL;VALUE=DURATION:PT1H
X-Robots-Tag:noindex
X-PUBLISHED-TTL:PT1H
BEGIN:VTIMEZONE
TZID:America/Denver
BEGIN:DAYLIGHT
TZOFFSETFROM:-0700
TZOFFSETTO:-0600
TZNAME:MDT
DTSTART:20230312T090000
END:DAYLIGHT
BEGIN:STANDARD
TZOFFSETFROM:-0600
TZOFFSETTO:-0700
TZNAME:MST
DTSTART:20231105T080000
END:STANDARD
BEGIN:DAYLIGHT
TZOFFSETFROM:-0700
TZOFFSETTO:-0600
TZNAME:MDT
DTSTART:20240310T090000
END:DAYLIGHT
BEGIN:STANDARD
TZOFFSETFROM:-0600
TZOFFSETTO:-0700
TZNAME:MST
DTSTART:20241103T080000
END:STANDARD
BEGIN:DAYLIGHT
TZOFFSETFROM:-0700
TZOFFSETTO:-0600
TZNAME:MDT
DTSTART:20250309T090000
END:DAYLIGHT
BEGIN:STANDARD
TZOFFSETFROM:-0600
TZOFFSETTO:-0700
TZNAME:MST
DTSTART:20251102T080000
END:STANDARD
END:VTIMEZONE
BEGIN:VEVENT
DTSTART;TZID=America/Denver:20241130T100000
DTEND;TZID=America/Denver:20241130T150000
DTSTAMP:20260423T203716
CREATED:20241017T042449Z
LAST-MODIFIED:20241017T042449Z
UID:468-1732960800-1732978800@lordoverlimerence.org
SUMMARY:2024 VCS Christmas Boutique
DESCRIPTION:Lord Over Limerence will be attending Victory Christian School’s 2024 Christmas Boutique! Visit our booth to view gift boxes curated for those experiencing limerence\, explore volunteer opportunities and enjoy puzzles and a craft activity. \nIf you are unable to join us in person\, you can still browse opportunities to support our mission. The puzzles offered at our booth will be available to download following the event.
URL:https://lordoverlimerence.org/event/2024-vcs-christmas-boutique/
LOCATION:Victory Christian School\, 3045 Garfield Avenue\, Carmichael\, CA\, 95608\, United States
CATEGORIES:Community Engagement
ATTACH;FMTTYPE=image/png:https://lordoverlimerence.org/wp-content/uploads/2024/10/2024-VCS-Christmas-Boutique-Promo-Image.png
END:VEVENT
END:VCALENDAR