BEGIN:VCALENDAR
VERSION:2.0
PRODID:-//Lord Over Limerence - ECPv6.15.20//NONSGML v1.0//EN
CALSCALE:GREGORIAN
METHOD:PUBLISH
X-WR-CALNAME:Lord Over Limerence
X-ORIGINAL-URL:http://lordoverlimerence.org
X-WR-CALDESC:Events for Lord Over Limerence
REFRESH-INTERVAL;VALUE=DURATION:PT1H
X-Robots-Tag:noindex
X-PUBLISHED-TTL:PT1H
BEGIN:VTIMEZONE
TZID:America/Denver
BEGIN:DAYLIGHT
TZOFFSETFROM:-0700
TZOFFSETTO:-0600
TZNAME:MDT
DTSTART:20240310T090000
END:DAYLIGHT
BEGIN:STANDARD
TZOFFSETFROM:-0600
TZOFFSETTO:-0700
TZNAME:MST
DTSTART:20241103T080000
END:STANDARD
BEGIN:DAYLIGHT
TZOFFSETFROM:-0700
TZOFFSETTO:-0600
TZNAME:MDT
DTSTART:20250309T090000
END:DAYLIGHT
BEGIN:STANDARD
TZOFFSETFROM:-0600
TZOFFSETTO:-0700
TZNAME:MST
DTSTART:20251102T080000
END:STANDARD
BEGIN:DAYLIGHT
TZOFFSETFROM:-0700
TZOFFSETTO:-0600
TZNAME:MDT
DTSTART:20260308T090000
END:DAYLIGHT
BEGIN:STANDARD
TZOFFSETFROM:-0600
TZOFFSETTO:-0700
TZNAME:MST
DTSTART:20261101T080000
END:STANDARD
END:VTIMEZONE
BEGIN:VEVENT
DTSTART;TZID=America/Denver:20251102T180000
DTEND;TZID=America/Denver:20251102T191500
DTSTAMP:20260424T050302
CREATED:20251115T000227Z
LAST-MODIFIED:20251115T000227Z
UID:594-1762106400-1762110900@lordoverlimerence.org
SUMMARY:Support Group Meeting - November 2\, 2025
DESCRIPTION:Lord Over Limerence holds regular support meetings every other Sunday evening\, 6:00-7:15 PM Pacific Time. Meetings are intended to offer biblically based emotional support and prayer for those who are currently struggling with limerence. \nThe meeting on November 2\, 2025 is focused on how those experiencing limerence often have a moldable identity and may make promises that can be hard to break. \nPlease enable JavaScript in your browser to complete this form.Name *FirstLastEmail *Local Time Zone *Meeting Schedule SuggestionsIf our regular Sunday meetings do not fit well with your schedule\, please list several days and times which would work for you.How frequently would you like to meet? *WeeklyBiweekly/FortnightlyMonthlyHow can we pray for you as we prepare for the support meetings?Prayer requests will be kept confidential.Submit
URL:http://lordoverlimerence.org/event/support-group-meeting-20251102/
CATEGORIES:Support Group Meetings
END:VEVENT
BEGIN:VEVENT
DTSTART;TZID=America/Denver:20251116T180000
DTEND;TZID=America/Denver:20251116T191500
DTSTAMP:20260424T050302
CREATED:20251115T000915Z
LAST-MODIFIED:20251212T035618Z
UID:596-1763316000-1763320500@lordoverlimerence.org
SUMMARY:Support Group Meeting - November 16\, 2025 - Cancelled
DESCRIPTION:Lord Over Limerence holds regular support meetings every other Sunday evening\, 6:00-7:15 PM Pacific Time. Meetings are intended to offer biblically based emotional support and prayer for those who are currently struggling with limerence. \nThe meeting on November 16\, 2025 was cancelled due to low attendance. The topic of challenges in limerence during the holidays is covered on November 30. \nUse the form below to indicate your interest in attending this meeting or a future support group meeting if you have not signed up before. \nPlease enable JavaScript in your browser to complete this form.Name *FirstLastEmail *Local Time Zone *Meeting Schedule SuggestionsIf our regular Sunday meetings do not fit well with your schedule\, please list several days and times which would work for you.How frequently would you like to meet? *WeeklyBiweekly/FortnightlyMonthlyHow can we pray for you as we prepare for the support meetings?Prayer requests will be kept confidential.Submit
URL:http://lordoverlimerence.org/event/support-group-meeting-20251116/
CATEGORIES:Support Group Meetings
END:VEVENT
BEGIN:VEVENT
DTSTART;TZID=America/Denver:20251130T180000
DTEND;TZID=America/Denver:20251130T191500
DTSTAMP:20260424T050302
CREATED:20251115T002026Z
LAST-MODIFIED:20251212T035745Z
UID:598-1764525600-1764530100@lordoverlimerence.org
SUMMARY:Support Group Meeting - November 30\, 2025
DESCRIPTION:Lord Over Limerence holds regular support meetings every other Sunday evening\, 6:00-7:15 PM Pacific Time. Meetings are intended to offer biblically based emotional support and prayer for those who are currently struggling with limerence. \nThe meeting on November 30\, 2025 is focused on the challenges of limerence in the holiday season\, on birthdays and any special anniversaries related to the relationship or hope for a relationship. \nUse the form below to indicate your interest in attending this meeting or a future support group meeting if you have not signed up before. \nPlease enable JavaScript in your browser to complete this form.Name *FirstLastEmail *Local Time Zone *Meeting Schedule SuggestionsIf our regular Sunday meetings do not fit well with your schedule\, please list several days and times which would work for you.How frequently would you like to meet? *WeeklyBiweekly/FortnightlyMonthlyHow can we pray for you as we prepare for the support meetings?Prayer requests will be kept confidential.Submit
URL:http://lordoverlimerence.org/event/support-group-meeting-20251130/
CATEGORIES:Support Group Meetings
END:VEVENT
END:VCALENDAR